BEGIN:VCALENDAR
PRODID:-//eluceo/ical//2.0/EN
VERSION:2.0
CALSCALE:GREGORIAN
BEGIN:VEVENT
UID:295319154ebe0613f51db555c894d6cf
DTSTAMP:20260423T182648Z
SUMMARY:pierre-cardin-boutique-circa-1975-robe-bustier - Date de vente : 05
 /11/2013
DESCRIPTION:Nom du lots : Pierre CARDIN Boutique\, circa 1975 ROBE-BUSTIER.
 ..\n\nPierre CARDIN Boutique\, circa 1975\n ROBE-BUSTIER ’foulard’ en 
 satin de soie framboise retenue par une large bretelle\, fermeture par tro
 is agrafes sur échancrure au dos (env TS) (petites salissures et mini usu
 re sur tissu)
DTSTART;VALUE=DATE:20131105
END:VEVENT
END:VCALENDAR
