BEGIN:VCALENDAR
PRODID:-//eluceo/ical//2.0/EN
VERSION:2.0
CALSCALE:GREGORIAN
BEGIN:VEVENT
UID:7ea4a690f0db8ede073ab48bb2490f86
DTSTAMP:20260423T182827Z
SUMMARY:louis-feraud-circa-197578-manteau-juponn - Date de vente : 05/11/20
 13
DESCRIPTION:Nom du lots : Louis FERAUD\, circa 1975/78 MANTEAU juponné...\
 n\nLouis FERAUD\, circa 1975/78\n MANTEAU juponné en lainage bouclettes c
 assis\, petit col droit sur simple boutonnage\, deux poches dans les coutu
 res (env TS)
DTSTART;VALUE=DATE:20131105
END:VEVENT
END:VCALENDAR
