BEGIN:VCALENDAR
PRODID:-//eluceo/ical//2.0/EN
VERSION:2.0
CALSCALE:GREGORIAN
BEGIN:VEVENT
UID:632129c925d14dd3269ece661be09cef
DTSTAMP:20260425T105815Z
SUMMARY:christian-dior-boutique-par-john-galliano - Date de vente : 05/11/2
 013
DESCRIPTION:Nom du lots : Christian DIOR Boutique par John Galliano...\n\nC
 hristian DIOR Boutique par John Galliano (1996-2001)\n ROBE en satin de so
 ie mélangée rose dragée imprimée d’un motif floral japonisant\, enco
 lure bateau sur petite fente s’attachant à l’aide de boutons ’fleur
 s’ nacrés à la nuque\, rappel au bas des manches
DTSTART;VALUE=DATE:20131105
END:VEVENT
END:VCALENDAR
