BEGIN:VCALENDAR
PRODID:-//eluceo/ical//2.0/EN
VERSION:2.0
CALSCALE:GREGORIAN
BEGIN:VEVENT
UID:75f01a1fcda87592f2e5fb3804f8f484
DTSTAMP:20260423T184752Z
SUMMARY:chanel-identification-tenue-pour-les-sports - Date de vente : 05/11
 /2013
DESCRIPTION:Nom du lots : CHANEL Identification TENUE pour les SPORTS...\n\
 nCHANEL Identification\n TENUE pour les SPORTS d’HIVER en polyamide ouat
 iné blanc cassé : BLOUSON à col montant\, fermeture éclair sous patte 
 pressionnée\, poignets en laine côtelée\, deux poches zippées (env TM)
 \, PANTALON muni de zips sous pattes pressionnées
DTSTART;VALUE=DATE:20131105
END:VEVENT
END:VCALENDAR
