BEGIN:VCALENDAR
PRODID:-//eluceo/ical//2.0/EN
VERSION:2.0
CALSCALE:GREGORIAN
BEGIN:VEVENT
UID:ee30b7e2a17bf24330ab53bd1f85a7ef
DTSTAMP:20260423T182450Z
SUMMARY:givenchy-circa-198085-pardessus-910-en - Date de vente : 05/11/2013
DESCRIPTION:Nom du lots : GIVENCHY\, circa 1980/85 PARDESSUS 9/10 en...\n\n
 GIVENCHY\, circa 1980/85 \n PARDESSUS 9/10 en agneau plongé turquoise\, c
 ol cranté\, deux poches en biais\, fente dos\, ceinture à boucle coordon
 née (manque griffe) (env TS/M) (salissures et petite patine d’usage)
DTSTART;VALUE=DATE:20131105
END:VEVENT
END:VCALENDAR
