BEGIN:VCALENDAR
PRODID:-//eluceo/ical//2.0/EN
VERSION:2.0
CALSCALE:GREGORIAN
BEGIN:VEVENT
UID:a94a148dd70967b040e41f8d21b594cd
DTSTAMP:20260423T182944Z
SUMMARY:yves-saint-laurent-rive-gauche-1989-tailleur - Date de vente : 05/1
 1/2013
DESCRIPTION:Nom du lots : Yves SAINT LAURENT Rive Gauche (1989) TAILLEUR...
 \n\nYves SAINT LAURENT Rive Gauche (1989)\n TAILLEUR en crêpe de laine ma
 rine\, VESTE encolure ronde sur simple boutonnage en métal doré martelé
 \, rappel sur les poignets à revers\, deux poches verticales\, JUPE droit
 e (T34)
DTSTART;VALUE=DATE:20131105
END:VEVENT
END:VCALENDAR
