BEGIN:VCALENDAR
PRODID:-//eluceo/ical//2.0/EN
VERSION:2.0
CALSCALE:GREGORIAN
BEGIN:VEVENT
UID:0c40c062d630050261ba6a296b220b60
DTSTAMP:20260423T182616Z
SUMMARY:pierre-balmain-haute-couture-n7186-circa - Date de vente : 05/11/20
 13
DESCRIPTION:Nom du lots : Pierre BALMAIN Haute Couture n°7186?\, circa...\
 n\nPierre BALMAIN Haute Couture n°7186?\, circa 1955\n ROBE-MANTEAU en ve
 lours noir\, encolure montante à revers sur simple boutonnage jusqu’au 
 bas de la jupe\, taille soulignée de pinces\, emmanchures basses (griffe 
 noire\, graphisme blanc) (env TS) (doublure sig
DTSTART;VALUE=DATE:20131105
END:VEVENT
END:VCALENDAR
