BEGIN:VCALENDAR
PRODID:-//eluceo/ical//2.0/EN
VERSION:2.0
CALSCALE:GREGORIAN
BEGIN:VEVENT
UID:aa4eb5578c6abbd214b931785b8ba036
DTSTAMP:20260423T182623Z
SUMMARY:givenchy-haute-couture-par-alexander-mcqueen - Date de vente : 05/1
 1/2013
DESCRIPTION:Nom du lots : GIVENCHY Haute Couture par Alexander McQueen...\n
 \nGIVENCHY Haute Couture par Alexander McQueen (1996-2001)\n VESTE du soir
  cintrée en velours de soie noire\, décolleté rond sur simple boutonnag
 e façon jais\, rappel aux poignets\, deux poches verticales\, dos drapé 
 figurant un noeud (griffe marine\, graphisme b
DTSTART;VALUE=DATE:20131105
END:VEVENT
END:VCALENDAR
