BEGIN:VCALENDAR
PRODID:-//eluceo/ical//2.0/EN
VERSION:2.0
CALSCALE:GREGORIAN
BEGIN:VEVENT
UID:3c94bda5ba98920c17f670fa2e4c5e48
DTSTAMP:20260422T175858Z
SUMMARY:hermes-sport-circa-196870-pardessus-910 - Date de vente : 05/11/201
 3
DESCRIPTION:Nom du lots : HERMES Sport\, circa 1968/70 PARDESSUS 9/10...\n\
 nHERMES Sport\, circa 1968/70\n PARDESSUS 9/10 en agneau cappuccino\, col 
 rabattu transformable sur simple boutonnage en métal siglé\, rappel sur 
 les pattes de serrage au bas des manches longues raglan\, deux poches en b
 iais\, fente dos (T40) (manque un bouton)
DTSTART;VALUE=DATE:20131105
END:VEVENT
END:VCALENDAR
