BEGIN:VCALENDAR
PRODID:-//eluceo/ical//2.0/EN
VERSION:2.0
CALSCALE:GREGORIAN
BEGIN:VEVENT
UID:4914146644672a5372a327c8bc5709e3
DTSTAMP:20260422T175915Z
SUMMARY:nina-ricci-haute-couture-par-jules-franois - Date de vente : 05/11/
 2013
DESCRIPTION:Nom du lots : Nina RICCI Haute Couture par Jules-François...\n
 \nNina RICCI Haute Couture par Jules-François Crahay (1961)\n ROBE pliss
 ée en jersey noir rehaussée de lurex multicolore\, décolleté bateau s
 ’attachant par de petites agrafes sur chaque épaule\, taille soulignée
  d’une ceinture à même\, jupe à effet portefeuille
DTSTART;VALUE=DATE:20131105
END:VEVENT
END:VCALENDAR
