BEGIN:VCALENDAR
PRODID:-//eluceo/ical//2.0/EN
VERSION:2.0
CALSCALE:GREGORIAN
BEGIN:VEVENT
UID:91048754e0d34ee906a1f4469c14c855
DTSTAMP:20260422T175807Z
SUMMARY:celine-par-phoebe-philo-paire-descarpins - Date de vente : 05/11/20
 13
DESCRIPTION:Nom du lots : CELINE par Phoebe PHILO PAIRE d’ESCARPINS...\n\
 nCELINE par Phoebe PHILO\n PAIRE d’ESCARPINS en cuir glacé noir ajouré
 s sur le dessus (P37.5)
DTSTART;VALUE=DATE:20131105
END:VEVENT
END:VCALENDAR
