BEGIN:VCALENDAR
PRODID:-//eluceo/ical//2.0/EN
VERSION:2.0
CALSCALE:GREGORIAN
BEGIN:VEVENT
UID:e84dd188e4d537ed76400f0065130c35
DTSTAMP:20260422T175859Z
SUMMARY:hermes-paris-manteau-910-lgrement-cintr - Date de vente : 05/11/201
 3
DESCRIPTION:Nom du lots : HERMES Paris MANTEAU 9/10 légèrement cintré...
 \n\nHERMES Paris\n MANTEAU 9/10 légèrement cintré en laine pain d’ép
 ices\, col cranté\, trois boutons griffés façon écaille\, poignets à 
 revers\, poche poitrine\, deux poches rabat (T42)
DTSTART;VALUE=DATE:20131105
END:VEVENT
END:VCALENDAR
