BEGIN:VCALENDAR
PRODID:-//eluceo/ical//2.0/EN
VERSION:2.0
CALSCALE:GREGORIAN
BEGIN:VEVENT
UID:dd7c5907c734135aa270e19d3050d150
DTSTAMP:20260422T175812Z
SUMMARY:thierry-mugler-activ-tailleur-en-crpe-de - Date de vente : 05/11/20
 13
DESCRIPTION:Nom du lots : Thierry MUGLER Activ TAILLEUR en crêpe de...\n\n
 Thierry MUGLER Activ\n TAILLEUR en crêpe de laine mélangée noir : VESTE
  cintrée à col rabattu\, deux boutons pressions rehaussés de cabochons 
 en bakélite noire\, découpes galbantes\, JUPE droite avec petite fente a
 u dos (env TM/L)
DTSTART;VALUE=DATE:20131105
END:VEVENT
END:VCALENDAR
