BEGIN:VCALENDAR
PRODID:-//eluceo/ical//2.0/EN
VERSION:2.0
CALSCALE:GREGORIAN
BEGIN:VEVENT
UID:d12834d2002af31f71bf72ef0a24f973
DTSTAMP:20260422T175726Z
SUMMARY:hermes-paris-edition-complete-le-monde - Date de vente : 05/11/2013
DESCRIPTION:Nom du lots : HERMES Paris EDITION COMPLETE "Le Monde...\n\nHER
 MES Paris\n EDITION COMPLETE "Le Monde d’Hermès" : vingt-quatre catalog
 ues 1983/1984 (édition allemande)\, 1984/1985\, 1985/1986\, 1986/1987 (é
 dition anglaise)\, 1987/88 (édition spéciale 150ème anniversaire)\, 198
 9\, 1990\, 1991\, 1992 (vol I et II)\, 1993 (vol
DTSTART;VALUE=DATE:20131105
END:VEVENT
END:VCALENDAR
