BEGIN:VCALENDAR
PRODID:-//eluceo/ical//2.0/EN
VERSION:2.0
CALSCALE:GREGORIAN
BEGIN:VEVENT
UID:2ac38d22018f04537d7a49c6bd528c2e
DTSTAMP:20260423T150328Z
SUMMARY:lot-comprenant-une-veste-tisse-boutonne - Date de vente : 14/02/201
 4
DESCRIPTION:Nom du lots : Lot comprenant une veste tissée boutonnée\,...\
 n\nLot comprenant une veste tissée boutonnée\, Laine et coton\, Amériqu
 e du Sud\; une tenture rayé ikaté\, un morceau de vêtement démonté Mi
 ao coton indigoté et un mouchoir en lin brodé à jours et soie
DTSTART;VALUE=DATE:20140214
END:VEVENT
END:VCALENDAR
