BEGIN:VCALENDAR
PRODID:-//eluceo/ical//2.0/EN
VERSION:2.0
CALSCALE:GREGORIAN
BEGIN:VEVENT
UID:398b95f868ee1167256887fe5c976376
DTSTAMP:20260423T143104Z
SUMMARY:deux-cols-cravates-longs-pans-en-dentelle - Date de vente : 14/02/2
 014
DESCRIPTION:Nom du lots : Deux cols cravatesà longs pans en dentelle...\n\
 nDeux cols cravatesà longs pans en dentelle aux fuseaux\, Flandres\, fin 
 XVIIe siècle. Larges enroulements concentriques et petits fleurons évid
 és reliés par de simple brides (bel état\, quelques accidents). On join
 t: un autre col
DTSTART;VALUE=DATE:20140214
END:VEVENT
END:VCALENDAR
