BEGIN:VCALENDAR
PRODID:-//eluceo/ical//2.0/EN
VERSION:2.0
CALSCALE:GREGORIAN
BEGIN:VEVENT
UID:50dfa2ecee09e39548329dbb66c6277e
DTSTAMP:20260423T145128Z
SUMMARY:deux-bonnets-pour-enfants-et-deux-passes - Date de vente : 14/02/20
 14
DESCRIPTION:Nom du lots : Deux bonnets pour enfants et deux passes...\n\nDe
 ux bonnets pour enfants et deux passes en Trapunto\, XVIIIe siècle. Lin p
 iqué\, fils tirés et broderie au point de noeud (légères rousseurs)
DTSTART;VALUE=DATE:20140214
END:VEVENT
END:VCALENDAR
