BEGIN:VCALENDAR
PRODID:-//eluceo/ical//2.0/EN
VERSION:2.0
CALSCALE:GREGORIAN
BEGIN:VEVENT
UID:f80e1bf2115d8e641533e76d119aef6b
DTSTAMP:20260423T143227Z
SUMMARY:petit-voile-de-marie-et-tole-en-tulle-mcanique - Date de vente : 14
 /02/2014
DESCRIPTION:Nom du lots : Petit voile de mariée et étole en tulle mécani
 que...\n\nPetit voile de mariée et étole en tulle mécanique brodé\, ri
 nceaux fleuris fond à pois\, 40 x 170 cm (très bel état). On joint:un m
 étrage de dentelle mécanique pouvant border un voile. (env. 3\,50 m)
DTSTART;VALUE=DATE:20140214
END:VEVENT
END:VCALENDAR
