BEGIN:VCALENDAR
PRODID:-//eluceo/ical//2.0/EN
VERSION:2.0
CALSCALE:GREGORIAN
BEGIN:VEVENT
UID:23fad89552869adc5b1875ce26c10f60
DTSTAMP:20260423T143137Z
SUMMARY:store-en-linon-orn-de-dentelle-de-ruban - Date de vente : 14/02/201
 4
DESCRIPTION:Nom du lots : Store en linon orné de dentelle de ruban...\n\nS
 tore en linon orné de dentelle de ruban et tulle brodé\, état neuf. 110
  x 120 cm. On joint: un voile de berceau(?) en tulle et application de den
 telle de Bruges. Etat superbe
DTSTART;VALUE=DATE:20140214
END:VEVENT
END:VCALENDAR
