BEGIN:VCALENDAR
PRODID:-//eluceo/ical//2.0/EN
VERSION:2.0
CALSCALE:GREGORIAN
BEGIN:VEVENT
UID:e4617c9c933ca0b1bb73cf649aae204a
DTSTAMP:20260423T143054Z
SUMMARY:robe-de-baptme-et-cape-en-piqu-de-coton - Date de vente : 14/02/201
 4
DESCRIPTION:Nom du lots : Robe de baptême et cape en piqué de coton...\n\
 nRobe de baptême et cape en piqué de coton brodé et volant de broderie 
 anglaise\, début XXe siècle
DTSTART;VALUE=DATE:20140214
END:VEVENT
END:VCALENDAR
