BEGIN:VCALENDAR
PRODID:-//eluceo/ical//2.0/EN
VERSION:2.0
CALSCALE:GREGORIAN
BEGIN:VEVENT
UID:61c9d7681b52cb8a326606e7a1e831f3
DTSTAMP:20260423T143110Z
SUMMARY:4-larges-volants-en-chantilly-noir-fuseaux - Date de vente : 14/02/
 2014
DESCRIPTION:Nom du lots : 4 Larges Volants en Chantilly noir\, fuseaux...\n
 \n4 Larges Volants en Chantilly noir\, fuseaux et mécaniques\, métrages 
 compris entre 2\,50. et plus de 5 m. On joint:un beau volant en dentelle d
 u Puy en soie et de fines barbes de coiffure en Chantilly
DTSTART;VALUE=DATE:20140214
END:VEVENT
END:VCALENDAR
