BEGIN:VCALENDAR
PRODID:-//eluceo/ical//2.0/EN
VERSION:2.0
CALSCALE:GREGORIAN
BEGIN:VEVENT
UID:deb0cee0f3c1466e4cda4888298272b5
DTSTAMP:20260423T143104Z
SUMMARY:lot-dentelles-et-broderies-divers-comprenant - Date de vente : 14/0
 2/2014
DESCRIPTION:Nom du lots : Lot dentelles et broderies divers comprenant...\n
 \nLot dentelles et broderies divers comprenant un grand métrage de broder
 ie anglaise\, 2\,50 m de galon en filet brodé\, un napperon dentelle et b
 roderie\, un devant de robe\, un métrage de soie brodée et 5 pièces de 
 volant en tulle mécanique brodé
DTSTART;VALUE=DATE:20140214
END:VEVENT
END:VCALENDAR
