BEGIN:VCALENDAR
PRODID:-//eluceo/ical//2.0/EN
VERSION:2.0
CALSCALE:GREGORIAN
BEGIN:VEVENT
UID:d64d3e827c2630bbb18820ce89077461
DTSTAMP:20260423T145101Z
SUMMARY:document-de-brocart-no-gothique-en-drap - Date de vente : 14/02/201
 4
DESCRIPTION:Nom du lots : Document de brocart néo-gothique en drap...\n\nD
 ocument de brocart néo-gothique en drap d’or pour ornements liturgiques
 \, Truchot à Lyon début XXème siècle. On joint: un document de broderi
 edécorative Indienne (Mochi)\, bordé de coton teint en Bandhani. 20 x 45
  cm
DTSTART;VALUE=DATE:20140214
END:VEVENT
END:VCALENDAR
