BEGIN:VCALENDAR
PRODID:-//eluceo/ical//2.0/EN
VERSION:2.0
CALSCALE:GREGORIAN
BEGIN:VEVENT
UID:a1857e1cb1e3ed22ec34e728b91140cf
DTSTAMP:20260423T162437Z
SUMMARY:dentelles-blanches-et-noires-xixe-sicle - Date de vente : 14/02/201
 4
DESCRIPTION:Nom du lots : Dentelles blanches et noires XIXe siècle....\n\n
 Dentelles blanches et noires XIXe siècle. Trois Métrage en Alençon anci
 en remonté\, galon de Valenciennes\, voile de chapeau en tulle et dentell
 e des Flandres\, écharpe en dentelle des Flandres aux fuseaux\; trois ch
 âles en dentelle Chantilly Mécanique noire\, fin XIXe siècle\; 5 métra
 ges de volant en Cluny et un en Chantilly mécanique
DTSTART;VALUE=DATE:20140214
END:VEVENT
END:VCALENDAR
