BEGIN:VCALENDAR
PRODID:-//eluceo/ical//2.0/EN
VERSION:2.0
CALSCALE:GREGORIAN
BEGIN:VEVENT
UID:90cce1703b05c8f4c24260a6ea96e6b2
DTSTAMP:20260423T160700Z
SUMMARY:lot-de-vtements-en-dentelle-vers-1900-1910 - Date de vente : 14/02/
 2014
DESCRIPTION:Nom du lots : Lot de vêtements en dentelle\, vers 1900-1910:..
 .\n\nLot de vêtements en dentelle\, vers 1900-1910: Trois Brassières en 
 fine batiste et dentelle d’Irlande\, vers 1010. Un Collet en Irlande et 
 médaillons de linon brodé\, une broderie an ruban de soie\, une robe d
 ’enfant et dentelle d’Irlande\, un gilet crochet et un manteau de jour
  dentelle de ruban noir
DTSTART;VALUE=DATE:20140214
END:VEVENT
END:VCALENDAR
