BEGIN:VCALENDAR
PRODID:-//eluceo/ical//2.0/EN
VERSION:2.0
CALSCALE:GREGORIAN
BEGIN:VEVENT
UID:f368f21fa0c8eaba26aef87d38987f76
DTSTAMP:20260423T160523Z
SUMMARY:grand-couvre-lit-en-forme-brod-incrustations - Date de vente : 14/0
 2/2014
DESCRIPTION:Nom du lots : Grand couvre-lit en forme\, brodé à incrustatio
 ns...\n\nGrand couvre-lit en forme\, brodé à incrustations de dentelle d
 u Puy aux fuseaux\, Filet Rebrodé et dentelle au crochet\, début XXe si
 ècle (?). On joint: une paire de rideaux en tulle brodé style Louis XVI
DTSTART;VALUE=DATE:20140214
END:VEVENT
END:VCALENDAR
