BEGIN:VCALENDAR
PRODID:-//eluceo/ical//2.0/EN
VERSION:2.0
CALSCALE:GREGORIAN
BEGIN:VEVENT
UID:680c39d5c97e1e58329ceded4a3bb787
DTSTAMP:20260423T160810Z
SUMMARY:chle-de-manille-canton-pour-lexport-dbut - Date de vente : 14/02/20
 14
DESCRIPTION:Nom du lots : Châle de Manille\, Canton pour l’export\, déb
 ut...\n\nChâle de Manille\, Canton pour l’export\, début XXe siècle. 
 Twill de soie crème brodé sans envers de pivoines rose géantes\, frange
  à grille de soie
DTSTART;VALUE=DATE:20140214
END:VEVENT
END:VCALENDAR
