BEGIN:VCALENDAR
PRODID:-//eluceo/ical//2.0/EN
VERSION:2.0
CALSCALE:GREGORIAN
BEGIN:VEVENT
UID:63020821a1390a75c202d2f92c0181e0
DTSTAMP:20260423T160528Z
SUMMARY:grande-cape-brode-capuche-beau-fermoir - Date de vente : 14/02/2014
DESCRIPTION:Nom du lots : Grande cape brodée à capuche\, beau fermoir...\
 n\nGrande cape brodée à capuche\, beau fermoir façon argent martelé. L
 aine noire et broderies de coton polychrome
DTSTART;VALUE=DATE:20140214
END:VEVENT
END:VCALENDAR
