BEGIN:VCALENDAR
PRODID:-//eluceo/ical//2.0/EN
VERSION:2.0
CALSCALE:GREGORIAN
BEGIN:VEVENT
UID:6798193af5b970170a01a0dcda68aeb2
DTSTAMP:20260423T160558Z
SUMMARY:veste-du-soir-en-plumes-de-marabout-vers - Date de vente : 14/02/20
 14
DESCRIPTION:Nom du lots : Veste du soir en plumes de Marabout\, vers...\n\n
 Veste du soir en plumes de Marabout\, vers 1938. Plumes teintées violet f
 oncé\, doublure satin bleu nuit (bel état)
DTSTART;VALUE=DATE:20140214
END:VEVENT
END:VCALENDAR
