BEGIN:VCALENDAR
PRODID:-//eluceo/ical//2.0/EN
VERSION:2.0
CALSCALE:GREGORIAN
BEGIN:VEVENT
UID:97d20967d552760ee8923efeaf9d0ded
DTSTAMP:20260423T161120Z
SUMMARY:collection-de-cols-cravates-pour-femme-annes - Date de vente : 14/0
 2/2014
DESCRIPTION:Nom du lots : Collection de cols-cravates pour femme\, années.
 ..\n\nCollection de cols-cravates pour femme\, années 30. Cols à nouer d
 e jour et du soir en linon\, organdi brodé ou imprimé\, panne de velours
 \, lurex\, pavage de perles\, rubans de passementerie\, daim estampé...15
  modèles. On joint: un sac serpent\, vers 1930
DTSTART;VALUE=DATE:20140214
END:VEVENT
END:VCALENDAR
