BEGIN:VCALENDAR
PRODID:-//eluceo/ical//2.0/EN
VERSION:2.0
CALSCALE:GREGORIAN
BEGIN:VEVENT
UID:bb2f2a31d581277356ad1850f5bc5175
DTSTAMP:20260421T124012Z
SUMMARY:herms - Date de vente : 15/12/2025
DESCRIPTION:Nom du lots : Hermès\n\nHermès Rose Shocking\, Flamingo and E
 toupe Epsom HSS Birkin 30 Palladium Hardware\, 2013
DTSTART;VALUE=DATE:20251215
END:VEVENT
END:VCALENDAR
