BEGIN:VCALENDAR
PRODID:-//eluceo/ical//2.0/EN
VERSION:2.0
CALSCALE:GREGORIAN
BEGIN:VEVENT
UID:0f058520fad20aab943b2a6cb25f6704
DTSTAMP:20260423T143238Z
SUMMARY:jean-louis-scherrer-haute-couture-no-002082-circa-1980-broderie-les
 age - Date de vente : 10/02/2014
DESCRIPTION:Nom du lots : Jean LOUIS SCHERRER haute couture no 002082 circa
  1980\, broderie Lesage\n\nRobe grand soir\, haut en mousseline bleue rebr
 odée de paillettes argent à motif végétale\, de strass entourés de pe
 rles de verre figurant des tulipes\, encolure bateau sur décolleté au do
 s\, manches longues\, jupe ample en taffetas bleu nuit. Griffe blanches\, 
 graphisme noir
DTSTART;VALUE=DATE:20140210
END:VEVENT
END:VCALENDAR
