BEGIN:VCALENDAR
PRODID:-//eluceo/ical//2.0/EN
VERSION:2.0
CALSCALE:GREGORIAN
BEGIN:VEVENT
UID:d0a13c2bce76947ae7828a7ab8534235
DTSTAMP:20260423T143238Z
SUMMARY:christian-dior-haute-couture-n-90958-automne-hiver-1957 - Date de v
 ente : 10/02/2014
DESCRIPTION:Nom du lots : Christian DIOR\, haute couture\, n° 90958\, Auto
 mne - Hiver 1957\n\nEnsemble en faille noire à taches blanches\, veste co
 urte ras du cou\, simple boutonnage manches longues raglan\, jupe ample se
  boutonnant sur le devant. Griffe blanche\, graphisme noir. Dernière coll
 ection de Monsieur Dior
DTSTART;VALUE=DATE:20140210
END:VEVENT
END:VCALENDAR
