BEGIN:VCALENDAR
PRODID:-//eluceo/ical//2.0/EN
VERSION:2.0
CALSCALE:GREGORIAN
BEGIN:VEVENT
UID:2b6a26f674a2581bdcd58f623e5c94dc
DTSTAMP:20260423T142804Z
SUMMARY:mcm - Date de vente : 10/02/2014
DESCRIPTION:Nom du lots : MCM\n\nsac de voyage 49 cm en cuir grené marron 
 siglé et cuir marron\, fermeture éclair\, double poignée\, anse bandoul
 ière sangle amovible (légères usures). Bon état
DTSTART;VALUE=DATE:20140210
END:VEVENT
END:VCALENDAR
