BEGIN:VCALENDAR
PRODID:-//eluceo/ical//2.0/EN
VERSION:2.0
CALSCALE:GREGORIAN
BEGIN:VEVENT
UID:a093cbfc7c709dfca27ed4bfcc5f12f5
DTSTAMP:20260423T143655Z
SUMMARY:agns-gercault - Date de vente : 10/02/2014
DESCRIPTION:Nom du lots : Agnès GERCAULT\n\nVeste en Astrakan Swakara noir
 \, travail horizontal\, intercalaires en cuir Agneau noir\, petit col\, si
 mple boutonnage à quatre mousquetons en acier chromé.
DTSTART;VALUE=DATE:20140210
END:VEVENT
END:VCALENDAR
