BEGIN:VCALENDAR
PRODID:-//eluceo/ical//2.0/EN
VERSION:2.0
CALSCALE:GREGORIAN
BEGIN:VEVENT
UID:2b85c5a7c94f5ba38dca3074d7c18bbb
DTSTAMP:20260423T143110Z
SUMMARY:perfecto-zipp-en-cuir-agneau-marron-col - Date de vente : 10/02/201
 4
DESCRIPTION:Nom du lots : Perfecto zippé en cuir agneau marron\, col...\n\
 nPerfecto zippé en cuir agneau marron\, col en Martre Zibeline blonde du 
 Canada\, poches verticales et bas de manches zippées\, effets d’entrela
 ts en cuir manche gauche
DTSTART;VALUE=DATE:20140210
END:VEVENT
END:VCALENDAR
