BEGIN:VCALENDAR
PRODID:-//eluceo/ical//2.0/EN
VERSION:2.0
CALSCALE:GREGORIAN
BEGIN:VEVENT
UID:c8ae174079d737879ab77539d6c8b0f3
DTSTAMP:20260423T144750Z
SUMMARY:agnes-gercault - Date de vente : 10/02/2014
DESCRIPTION:Nom du lots : Agnes GERCAULT\n\n3/4 en Vison femelle dark rasé
 \, col châle en Vison longs poils a effet de dentelé\, poches plaquées\
 , ceinture en Vison.
DTSTART;VALUE=DATE:20140210
END:VEVENT
END:VCALENDAR
