BEGIN:VCALENDAR
PRODID:-//eluceo/ical//2.0/EN
VERSION:2.0
CALSCALE:GREGORIAN
BEGIN:VEVENT
UID:1ab9c13239796ece1b87943e6f2ac20a
DTSTAMP:20260423T142850Z
SUMMARY:christian-dior - Date de vente : 10/02/2014
DESCRIPTION:Nom du lots : Christian DIOR\n\nSac en PVC siglé rose sur fond
  blanc\, agrémenté de deux applications de sangles en coordonné\, du ch
 iffre" 1"\, de fleurettes blanches et de strass formant le non\, fermeture
  éclair\, double poignée. (Taches).
DTSTART;VALUE=DATE:20140210
END:VEVENT
END:VCALENDAR
