BEGIN:VCALENDAR
PRODID:-//eluceo/ical//2.0/EN
VERSION:2.0
CALSCALE:GREGORIAN
BEGIN:VEVENT
UID:7daff61b45dd5b0d55dd3d18777c8608
DTSTAMP:20260423T142851Z
SUMMARY:ted-lapidus - Date de vente : 10/02/2014
DESCRIPTION:Nom du lots : Ted LAPIDUS\n\nManteau en lainage chinée beige\,
  petit col\, double boutonnage à trois boutons\, deux poches plaquées so
 us rabats\, manches longues\, fentes dos. Bon état (manque un bouton).
DTSTART;VALUE=DATE:20140210
END:VEVENT
END:VCALENDAR
