BEGIN:VCALENDAR
PRODID:-//eluceo/ical//2.0/EN
VERSION:2.0
CALSCALE:GREGORIAN
BEGIN:VEVENT
UID:8b40648d3ae2e59242a00028e87739e0
DTSTAMP:20260423T145010Z
SUMMARY:jean-paul-gaultier - Date de vente : 10/02/2014
DESCRIPTION:Nom du lots : Jean-Paul GAULTIER\n\nPaire de santiags en cuir b
 eige patiné\, effet de drapé et de poussière blanche. T 39.
DTSTART;VALUE=DATE:20140210
END:VEVENT
END:VCALENDAR
