BEGIN:VCALENDAR
PRODID:-//eluceo/ical//2.0/EN
VERSION:2.0
CALSCALE:GREGORIAN
BEGIN:VEVENT
UID:52a905e2d1e30aea46b115a30c834e71
DTSTAMP:20260422T175634Z
SUMMARY:chanel-boutique - Date de vente : 08/11/2013
DESCRIPTION:Nom du lots : CHANEL BOUTIQUE\n\nTop en coton noir\, col rond\,
  manches courtes
DTSTART;VALUE=DATE:20131108
END:VEVENT
END:VCALENDAR
