BEGIN:VCALENDAR
PRODID:-//eluceo/ical//2.0/EN
VERSION:2.0
CALSCALE:GREGORIAN
BEGIN:VEVENT
UID:f2962b495ee63a27536a4a1c90aaa76f
DTSTAMP:20260422T192551Z
SUMMARY:christian-dior - Date de vente : 08/11/2013
DESCRIPTION:Nom du lots : Christian DIOR\n\nSac de forme ovale en daim noir
 \, fermeture éclair\, double anses bandoulières chaîne en métal doré.
  Très bon état
DTSTART;VALUE=DATE:20131108
END:VEVENT
END:VCALENDAR
