BEGIN:VCALENDAR
PRODID:-//eluceo/ical//2.0/EN
VERSION:2.0
CALSCALE:GREGORIAN
BEGIN:VEVENT
UID:b96d59b618c1319a6f7819aa3b422a28
DTSTAMP:20260422T194543Z
SUMMARY:herms-paris - Date de vente : 08/11/2013
DESCRIPTION:Nom du lots : HERMÈS Paris\n\nBague en argent surmontée d’u
 n pli. Poids: 8\,0 grs environ. T.53
DTSTART;VALUE=DATE:20131108
END:VEVENT
END:VCALENDAR
