BEGIN:VCALENDAR
PRODID:-//eluceo/ical//2.0/EN
VERSION:2.0
CALSCALE:GREGORIAN
BEGIN:VEVENT
UID:fc82f44d757ab0184cd9dc0a74c71d38
DTSTAMP:20260422T194920Z
SUMMARY:louis-vuitton-par-julie-verhoeven - Date de vente : 08/11/2013
DESCRIPTION:Nom du lots : Louis VUITTON par Julie Verhoeven\n\nPorte monnai
 e en cuir vernis monogram rose\, rehaussé d’un oiseau en toile monogram
 \, lézard et cuir vernis monogram\, fermeture éclair agrémentée d’un
 e chaîne se finissant par un mousqueton souligné d’un pompon. Très bo
 n état
DTSTART;VALUE=DATE:20131108
END:VEVENT
END:VCALENDAR
