BEGIN:VCALENDAR
PRODID:-//eluceo/ical//2.0/EN
VERSION:2.0
CALSCALE:GREGORIAN
BEGIN:VEVENT
UID:37ca854e59cf4c3c0ed83b57f23e7bff
DTSTAMP:20260422T194608Z
SUMMARY:yves-saint-laurent - Date de vente : 08/11/2013
DESCRIPTION:Nom du lots : Yves SAINT LAURENT\n\nSac "Muse" 46cm en cuir vie
 illi nacré a surpiqûres blanches\, fermeture éclair\, double demi anse\
 , clefs\, cadenas. Bon état (légères tâches)
DTSTART;VALUE=DATE:20131108
END:VEVENT
END:VCALENDAR
