BEGIN:VCALENDAR
PRODID:-//eluceo/ical//2.0/EN
VERSION:2.0
CALSCALE:GREGORIAN
BEGIN:VEVENT
UID:88d041d554e0f842ac15e3f222441bde
DTSTAMP:20260422T193305Z
SUMMARY:vuitton - Date de vente : 08/11/2013
DESCRIPTION:Nom du lots : VUITTON\n\nBoîte bijoux en toile monogram\, ferm
 eture à deux rabats sur pression\, intérieur en velours marron. 22 x 17 
 x 3 cm. (Manque un rabat). Bon état
DTSTART;VALUE=DATE:20131108
END:VEVENT
END:VCALENDAR
