BEGIN:VCALENDAR
PRODID:-//eluceo/ical//2.0/EN
VERSION:2.0
CALSCALE:GREGORIAN
BEGIN:VEVENT
UID:2931b438f39410222a9377d61213e64c
DTSTAMP:20260422T194435Z
SUMMARY:mcm - Date de vente : 08/11/2013
DESCRIPTION:Nom du lots : MCM\n\nSac 48h 48 cm en cuir camel siglé\, ferme
 ture éclair\, double poignée\, porte-nom. Bon état
DTSTART;VALUE=DATE:20131108
END:VEVENT
END:VCALENDAR
