BEGIN:VCALENDAR
PRODID:-//eluceo/ical//2.0/EN
VERSION:2.0
CALSCALE:GREGORIAN
BEGIN:VEVENT
UID:98c3a723b5dee456600467392e62daca
DTSTAMP:20260422T194920Z
SUMMARY:herms-paris-swiss-made-nrs1205923948 - Date de vente : 08/11/2013
DESCRIPTION:Nom du lots : HERMÈS Paris Swiss made n°RS1.205/923948\n\nMon
 tre "H" en acier\, cadran blanc\, chiffres arabe\, mouvement quartz\, brac
 elet en cuir Courchevel noir. (oxydation)
DTSTART;VALUE=DATE:20131108
END:VEVENT
END:VCALENDAR
