BEGIN:VCALENDAR
PRODID:-//eluceo/ical//2.0/EN
VERSION:2.0
CALSCALE:GREGORIAN
BEGIN:VEVENT
UID:f2073a0e7267e3f854dada18177f9f18
DTSTAMP:20260422T193023Z
SUMMARY:louis-vuitton-par-azzedine-alaa-collection-18961996-n1078 - Date de
  vente : 08/11/2013
DESCRIPTION:Nom du lots : Louis VUITTON par Azzedine Alaïa collection 1896
 /1996 n°1078\n\nSac "Alma" revu et corrigé à la demande de la Maison po
 ur les cent ans de la toile monogram par une application enrobant de vache
 tte façon panthère se terminant par un noeud sur la poignée\, clefs\, c
 adenas. Nous y joignons une trousse\, un étui à peigne et son peigne et 
 deux étuis à l’identique. Très bon état
DTSTART;VALUE=DATE:20131108
END:VEVENT
END:VCALENDAR
