BEGIN:VCALENDAR
PRODID:-//eluceo/ical//2.0/EN
VERSION:2.0
CALSCALE:GREGORIAN
BEGIN:VEVENT
UID:dad572b8a2c4d96cee3bd7b2178de886
DTSTAMP:20260422T214221Z
SUMMARY:chanel - Date de vente : 08/11/2013
DESCRIPTION:Nom du lots : CHANEL\n\nSac cabas 40 cm\, en cuir grené noir\,
  fermeture éclair\, double anses bandoulière chaîne en métal doré ent
 relacée de cuir et cuir grené noir\, devant siglé. Très bon état
DTSTART;VALUE=DATE:20131108
END:VEVENT
END:VCALENDAR
